BEGIN:VCALENDAR
VERSION:2.0
PRODID:-//schlagernachtinweiss.de - ECPv6.15.20//NONSGML v1.0//EN
CALSCALE:GREGORIAN
METHOD:PUBLISH
X-WR-CALNAME:schlagernachtinweiss.de
X-ORIGINAL-URL:https://schlagernachtinweiss.de
X-WR-CALDESC:Veranstaltungen für schlagernachtinweiss.de
REFRESH-INTERVAL;VALUE=DURATION:PT1H
X-Robots-Tag:noindex
X-PUBLISHED-TTL:PT1H
BEGIN:VTIMEZONE
TZID:Europe/Berlin
BEGIN:DAYLIGHT
TZOFFSETFROM:+0100
TZOFFSETTO:+0200
TZNAME:CEST
DTSTART:20250330T010000
END:DAYLIGHT
BEGIN:STANDARD
TZOFFSETFROM:+0200
TZOFFSETTO:+0100
TZNAME:CET
DTSTART:20251026T010000
END:STANDARD
BEGIN:DAYLIGHT
TZOFFSETFROM:+0100
TZOFFSETTO:+0200
TZNAME:CEST
DTSTART:20260329T010000
END:DAYLIGHT
BEGIN:STANDARD
TZOFFSETFROM:+0200
TZOFFSETTO:+0100
TZNAME:CET
DTSTART:20261025T010000
END:STANDARD
BEGIN:DAYLIGHT
TZOFFSETFROM:+0100
TZOFFSETTO:+0200
TZNAME:CEST
DTSTART:20270328T010000
END:DAYLIGHT
BEGIN:STANDARD
TZOFFSETFROM:+0200
TZOFFSETTO:+0100
TZNAME:CET
DTSTART:20271031T010000
END:STANDARD
END:VTIMEZONE
BEGIN:VEVENT
DTSTART;TZID=Europe/Berlin:20260710T193000
DTEND;TZID=Europe/Berlin:20260711T010000
DTSTAMP:20260421T132626
CREATED:20240729T110152Z
LAST-MODIFIED:20250919T123634Z
UID:1133-1783711800-1783731600@schlagernachtinweiss.de
SUMMARY:Rocknacht
DESCRIPTION:Rocknacht in Döckingen – Das Event des Jahres! \nSeien Sie dabei\, wenn Döckingen zur Bühne für die ultimative Rocknacht wird! Erleben Sie mitreißende Live-Bands\, kraftvolle Gitarrenriffs und eine unvergessliche Atmosphäre. Diese Nacht verspricht pure Rock-Energie und unvergessliche Momente\, die Sie nicht verpassen dürfen. \nWarum Sie dabei sein sollten: \n\nLive-Musik der Extraklasse: Genießen Sie atemberaubende Performances von Top-Bands\, die die Rockszene dominieren.\nStimmung und Atmosphäre: Tauchen Sie ein in eine rockige Welt voller Leidenschaft\, Energie und einer einmaligen Festivalstimmung
URL:https://schlagernachtinweiss.de/event/rocknacht/
LOCATION:Eventpark Stadelmann\, Treuchtlinger Straße 9\, Döckingen\, 91805\, Deutschland
ATTACH;FMTTYPE=image/jpeg:https://schlagernachtinweiss.de/wp-content/uploads/2024/07/WhatsApp-Image-2024-07-29-at-14.21.33.jpeg
ORGANIZER;CN="Eventpark Stadelmann":MAILTO:info@schlagernachtinweiss.de
END:VEVENT
BEGIN:VEVENT
DTSTART;TZID=Europe/Berlin:20260711T100000
DTEND;TZID=Europe/Berlin:20260711T160000
DTSTAMP:20260421T132626
CREATED:20240729T110917Z
LAST-MODIFIED:20250919T123204Z
UID:1139-1783764000-1783785600@schlagernachtinweiss.de
SUMMARY:Schlagerfrühschoppen
DESCRIPTION:Der Schlagerfrühschoppen ist die perfekte Gelegenheit\, um die Erlebnisse der letzten Nacht Revue passieren zu lassen und gemeinsam in den Sonntag zu starten. Wir freuen uns darauf\, mit euch zu tanzen\, zu singen und das Schlagerfieber hochleben zu lassen. \nGenießt die festliche Atmosphäre\, tragt euer schönstes Weiß und taucht ein in die Welt des deutschen Schlagers. Unser Schlagerfrühschoppen am Sonntagmorgen wird ein weiteres Highlight dieses spektakulären Wochenendes sein. Hier könnt ihr euren Durst nach guter Musik stillen und gleichzeitig die Gelegenheit nutzen\, neue Freundschaften zu schließen und euch über eure Lieblingshits auszutauschen.
URL:https://schlagernachtinweiss.de/event/fruehschoppen/
LOCATION:Eventpark Stadelmann\, Treuchtlinger Straße 9\, Döckingen\, 91805\, Deutschland
ATTACH;FMTTYPE=image/jpeg:https://schlagernachtinweiss.de/wp-content/uploads/2024/07/Fruehshoppen.jpg
ORGANIZER;CN="Eventpark Stadelmann":MAILTO:info@schlagernachtinweiss.de
END:VEVENT
BEGIN:VEVENT
DTSTART;TZID=Europe/Berlin:20260711T130000
DTEND;TZID=Europe/Berlin:20260712T010000
DTSTAMP:20260421T132626
CREATED:20240729T110613Z
LAST-MODIFIED:20250919T123235Z
UID:1137-1783774800-1783818000@schlagernachtinweiss.de
SUMMARY:Schlagernacht in Weiss
DESCRIPTION:Schlagernacht in Weiß – Das Event\, das Sie nicht verpassen dürfen! \nErleben Sie eine unvergessliche Nacht voller Schlagerhits und guter Laune bei der Schlagernacht in Weiß in Döckingen! Lassen Sie sich von den besten Schlagerkünstlern mitreißen und tanzen Sie unter dem Sternenhimmel zu den beliebtesten Melodien. Diese Veranstaltung ist ein Muss für alle Schlagerfans und solche\, die es werden wollen! \nWarum Sie dabei sein sollten: \n\nTop-Acts und Live-Musik: Freuen Sie sich auf großartige Live-Auftritte der bekanntesten Schlagerstars\, die Ihnen die größten Hits und neuen Chartstürmer präsentieren.\nEinzigartige Atmosphäre: Genießen Sie die besondere Stimmung der Schlagernacht in Weiß\, bei der alle Gäste in strahlendem Weiß gekleidet sind und eine magische Atmosphäre schaffen.\nTanz und Unterhaltung: Schwingen Sie das Tanzbein zu den besten Schlager-Rhythmen und erleben Sie eine Nacht voller Spaß und Unterhaltung.\n\nTicketoptionen für jeden Geschmack: \n\nStandardtickets: Erleben Sie die Schlagernacht in Weiß hautnah und genießen Sie die großartige Musik und Stimmung.\nVIP-Tickets: Für ein exklusives Erlebnis bieten wir Ihnen VIP-Tickets\, die Ihnen Zugang zu einem besonderen VIP-Bereich mit bester Sicht auf die Bühne\, köstlicher Verpflegung und weiteren Annehmlichkeiten bieten.\n\nVIP-Vorteile: \n\nZugang zu einem exklusiven VIP-Bereich mit optimaler Sicht auf die Bühne.\nKöstliche Verpflegung und exklusive VIP-Services.\nPremium Sitzplätze\, sodass die Auftritte hautnah miterlebt werden können.\nVIP-Lounge\, die zum Entspannen und zum gegenseitigen Austausch anregt.
URL:https://schlagernachtinweiss.de/event/schlagernacht-in-weiss/
LOCATION:Eventpark Stadelmann\, Treuchtlinger Straße 9\, Döckingen\, 91805\, Deutschland
ATTACH;FMTTYPE=image/jpeg:https://schlagernachtinweiss.de/wp-content/uploads/2024/07/WhatsApp-Image-2024-07-27-at-20.22.49.jpeg
ORGANIZER;CN="Eventpark Stadelmann":MAILTO:info@schlagernachtinweiss.de
END:VEVENT
END:VCALENDAR